BEGIN:VCALENDAR
VERSION:2.0
PRODID:-//Temple Oseh Shalom - ECPv6.15.17.1//NONSGML v1.0//EN
CALSCALE:GREGORIAN
METHOD:PUBLISH
X-WR-CALNAME:Temple Oseh Shalom
X-ORIGINAL-URL:https://templeosehshalom.org
X-WR-CALDESC:Events for Temple Oseh Shalom
REFRESH-INTERVAL;VALUE=DURATION:PT1H
X-Robots-Tag:noindex
X-PUBLISHED-TTL:PT1H
BEGIN:VTIMEZONE
TZID:Africa/Abidjan
BEGIN:STANDARD
TZOFFSETFROM:+0000
TZOFFSETTO:+0000
TZNAME:GMT
DTSTART:20240101T000000
END:STANDARD
END:VTIMEZONE
BEGIN:VEVENT
DTSTART;VALUE=DATE:20250217
DTEND;VALUE=DATE:20250218
DTSTAMP:20260420T124021
CREATED:20240204T034124Z
LAST-MODIFIED:20240204T034124Z
UID:10000019-1739750400-1739836799@templeosehshalom.org
SUMMARY:Presidents' Day
DESCRIPTION:Public holiday
URL:https://templeosehshalom.org/event/presidents-day-2/
END:VEVENT
BEGIN:VEVENT
DTSTART;VALUE=DATE:20250213
DTEND;VALUE=DATE:20250214
DTSTAMP:20260420T124021
CREATED:20240204T034216Z
LAST-MODIFIED:20240204T034216Z
UID:10000074-1739404800-1739491199@templeosehshalom.org
SUMMARY:Tu Bishvat
DESCRIPTION:
URL:https://templeosehshalom.org/event/tu-bishvat/
END:VEVENT
BEGIN:VEVENT
DTSTART;VALUE=DATE:20250120
DTEND;VALUE=DATE:20250121
DTSTAMP:20260420T124021
CREATED:20240204T034124Z
LAST-MODIFIED:20240204T034124Z
UID:10000017-1737331200-1737417599@templeosehshalom.org
SUMMARY:Martin Luther King Jr. Day
DESCRIPTION:Public holiday
URL:https://templeosehshalom.org/event/martin-luther-king-jr-day/
END:VEVENT
BEGIN:VEVENT
DTSTART;VALUE=DATE:20250120
DTEND;VALUE=DATE:20250121
DTSTAMP:20260420T124021
CREATED:20240204T034124Z
LAST-MODIFIED:20240204T034124Z
UID:10000018-1737331200-1737417599@templeosehshalom.org
SUMMARY:Inauguration Day (regional holiday)
DESCRIPTION:Public holiday in District of Columbia\, Maryland\, Virginia
URL:https://templeosehshalom.org/event/inauguration-day-regional-holiday/
END:VEVENT
BEGIN:VEVENT
DTSTART;VALUE=DATE:20250110
DTEND;VALUE=DATE:20250111
DTSTAMP:20260420T124021
CREATED:20240204T034216Z
LAST-MODIFIED:20240204T034216Z
UID:10000073-1736467200-1736553599@templeosehshalom.org
SUMMARY:Asarah B'Tevet (Tenth of Tevet)
DESCRIPTION:
URL:https://templeosehshalom.org/event/asarah-btevet-tenth-of-tevet/
END:VEVENT
BEGIN:VEVENT
DTSTART;VALUE=DATE:20250102
DTEND;VALUE=DATE:20250103
DTSTAMP:20260420T124021
CREATED:20240204T034215Z
LAST-MODIFIED:20240204T034215Z
UID:10000072-1735776000-1735862399@templeosehshalom.org
SUMMARY:Hanukkah (Day 8)
DESCRIPTION:
URL:https://templeosehshalom.org/event/hanukkah-day-8/
END:VEVENT
BEGIN:VEVENT
DTSTART;VALUE=DATE:20250101
DTEND;VALUE=DATE:20250102
DTSTAMP:20260420T124021
CREATED:20240204T034215Z
LAST-MODIFIED:20240204T034215Z
UID:10000071-1735689600-1735775999@templeosehshalom.org
SUMMARY:Hanukkah (Day 7)
DESCRIPTION:
URL:https://templeosehshalom.org/event/hanukkah-day-7/
END:VEVENT
BEGIN:VEVENT
DTSTART;VALUE=DATE:20250101
DTEND;VALUE=DATE:20250102
DTSTAMP:20260420T124021
CREATED:20240204T034123Z
LAST-MODIFIED:20240204T034123Z
UID:10000016-1735689600-1735775999@templeosehshalom.org
SUMMARY:New Year's Day
DESCRIPTION:Public holiday
URL:https://templeosehshalom.org/event/new-years-day/
END:VEVENT
END:VCALENDAR