BEGIN:VCALENDAR
VERSION:2.0
PRODID:-//Temple Oseh Shalom - ECPv6.15.17.1//NONSGML v1.0//EN
CALSCALE:GREGORIAN
METHOD:PUBLISH
X-ORIGINAL-URL:https://templeosehshalom.org
X-WR-CALDESC:Events for Temple Oseh Shalom
REFRESH-INTERVAL;VALUE=DURATION:PT1H
X-Robots-Tag:noindex
X-PUBLISHED-TTL:PT1H
BEGIN:VTIMEZONE
TZID:Africa/Abidjan
BEGIN:STANDARD
TZOFFSETFROM:+0000
TZOFFSETTO:+0000
TZNAME:GMT
DTSTART:20240101T000000
END:STANDARD
END:VTIMEZONE
BEGIN:VEVENT
DTSTART;VALUE=DATE:20251222
DTEND;VALUE=DATE:20251223
DTSTAMP:20260421T172543
CREATED:20240204T034225Z
LAST-MODIFIED:20240204T034225Z
UID:10000119-1766361600-1766447999@templeosehshalom.org
SUMMARY:Hanukkah (Day 8)
DESCRIPTION:
URL:https://templeosehshalom.org/event/hanukkah-day-8-2/
END:VEVENT
BEGIN:VEVENT
DTSTART;VALUE=DATE:20251225
DTEND;VALUE=DATE:20251226
DTSTAMP:20260421T172543
CREATED:20240204T034126Z
LAST-MODIFIED:20240204T034126Z
UID:10000027-1766620800-1766707199@templeosehshalom.org
SUMMARY:Christmas Day
DESCRIPTION:Public holiday
URL:https://templeosehshalom.org/event/christmas-day-2/
END:VEVENT
BEGIN:VEVENT
DTSTART;VALUE=DATE:20251230
DTEND;VALUE=DATE:20251231
DTSTAMP:20260421T172543
CREATED:20240204T034225Z
LAST-MODIFIED:20240204T034225Z
UID:10000120-1767052800-1767139199@templeosehshalom.org
SUMMARY:Asarah B'Tevet (Tenth of Tevet)
DESCRIPTION:
URL:https://templeosehshalom.org/event/asarah-btevet-tenth-of-tevet-2/
END:VEVENT
END:VCALENDAR