BEGIN:VCALENDAR
VERSION:2.0
PRODID:-//Temple Oseh Shalom - ECPv6.15.17.1//NONSGML v1.0//EN
CALSCALE:GREGORIAN
METHOD:PUBLISH
X-WR-CALNAME:Temple Oseh Shalom
X-ORIGINAL-URL:https://templeosehshalom.org
X-WR-CALDESC:Events for Temple Oseh Shalom
REFRESH-INTERVAL;VALUE=DURATION:PT1H
X-Robots-Tag:noindex
X-PUBLISHED-TTL:PT1H
BEGIN:VTIMEZONE
TZID:Africa/Abidjan
BEGIN:STANDARD
TZOFFSETFROM:+0000
TZOFFSETTO:+0000
TZNAME:GMT
DTSTART:20240101T000000
END:STANDARD
END:VTIMEZONE
BEGIN:VTIMEZONE
TZID:UTC
BEGIN:STANDARD
TZOFFSETFROM:+0000
TZOFFSETTO:+0000
TZNAME:UTC
DTSTART:20240101T000000
END:STANDARD
END:VTIMEZONE
BEGIN:VEVENT
DTSTART;VALUE=DATE:20251009
DTEND;VALUE=DATE:20251010
DTSTAMP:20260421T161416
CREATED:20240204T034222Z
LAST-MODIFIED:20240204T034222Z
UID:10000106-1759968000-1760054399@templeosehshalom.org
SUMMARY:Sukkot (Day 3)
DESCRIPTION:
URL:https://templeosehshalom.org/event/sukkot-day-3-2/
END:VEVENT
BEGIN:VEVENT
DTSTART;VALUE=DATE:20251010
DTEND;VALUE=DATE:20251011
DTSTAMP:20260421T161416
CREATED:20240204T034223Z
LAST-MODIFIED:20240204T034223Z
UID:10000107-1760054400-1760140799@templeosehshalom.org
SUMMARY:Sukkot (Day 4)
DESCRIPTION:
URL:https://templeosehshalom.org/event/sukkot-day-4-2/
END:VEVENT
BEGIN:VEVENT
DTSTART;VALUE=DATE:20251011
DTEND;VALUE=DATE:20251012
DTSTAMP:20260421T161416
CREATED:20240204T034223Z
LAST-MODIFIED:20240204T034223Z
UID:10000108-1760140800-1760227199@templeosehshalom.org
SUMMARY:Sukkot (Day 5)
DESCRIPTION:
URL:https://templeosehshalom.org/event/sukkot-day-5-2/
END:VEVENT
BEGIN:VEVENT
DTSTART;VALUE=DATE:20251012
DTEND;VALUE=DATE:20251013
DTSTAMP:20260421T161416
CREATED:20240204T034223Z
LAST-MODIFIED:20240204T034223Z
UID:10000109-1760227200-1760313599@templeosehshalom.org
SUMMARY:Sukkot (Day 6)
DESCRIPTION:
URL:https://templeosehshalom.org/event/sukkot-day-6-2/
END:VEVENT
BEGIN:VEVENT
DTSTART;VALUE=DATE:20251013
DTEND;VALUE=DATE:20251014
DTSTAMP:20260421T161416
CREATED:20240204T034125Z
LAST-MODIFIED:20240204T034125Z
UID:10000024-1760313600-1760399999@templeosehshalom.org
SUMMARY:Columbus Day
DESCRIPTION:Public holiday
URL:https://templeosehshalom.org/event/columbus-day-2/
END:VEVENT
BEGIN:VEVENT
DTSTART;VALUE=DATE:20251013
DTEND;VALUE=DATE:20251014
DTSTAMP:20260421T161416
CREATED:20240204T034223Z
LAST-MODIFIED:20240204T034223Z
UID:10000110-1760313600-1760399999@templeosehshalom.org
SUMMARY:Sukkot (Day 7) / Hoshanah Rabah
DESCRIPTION:
URL:https://templeosehshalom.org/event/sukkot-day-7-hoshanah-rabah-2/
END:VEVENT
BEGIN:VEVENT
DTSTART;VALUE=DATE:20251014
DTEND;VALUE=DATE:20251015
DTSTAMP:20260421T161416
CREATED:20240204T034223Z
LAST-MODIFIED:20240204T034223Z
UID:10000111-1760400000-1760486399@templeosehshalom.org
SUMMARY:Shemini Atzeret / Simchat Torah
DESCRIPTION:
URL:https://templeosehshalom.org/event/shemini-atzeret-simchat-torah-2/
END:VEVENT
BEGIN:VEVENT
DTSTART;TZID=UTC:20251017T193000
DTEND;TZID=UTC:20251017T193000
DTSTAMP:20260421T161416
CREATED:20250602T023057Z
LAST-MODIFIED:20250602T024108Z
UID:10000152-1760729400-1760729400@templeosehshalom.org
SUMMARY:7:30 PM: Shabbat Services
DESCRIPTION:
URL:https://templeosehshalom.org/event/shabbat-services-730-pm-2/
LOCATION:Lowcountry Presbyterian Church\, 10 Simmonsville Road\, Bluffton\, SC\, 29910\, United States
END:VEVENT
BEGIN:VEVENT
DTSTART;TZID=UTC:20251018T103000
DTEND;TZID=UTC:20251018T103000
DTSTAMP:20260421T161416
CREATED:20250602T023116Z
LAST-MODIFIED:20250602T024124Z
UID:10000153-1760783400-1760783400@templeosehshalom.org
SUMMARY:10:30 AM: Rabbi's Discussion Group - Thomas Hall
DESCRIPTION:
URL:https://templeosehshalom.org/event/rabbis-discussion-group-1030-am/
END:VEVENT
BEGIN:VEVENT
DTSTART;VALUE=DATE:20251111
DTEND;VALUE=DATE:20251112
DTSTAMP:20260421T161416
CREATED:20240204T034125Z
LAST-MODIFIED:20240204T034125Z
UID:10000025-1762819200-1762905599@templeosehshalom.org
SUMMARY:Veterans Day
DESCRIPTION:Public holiday
URL:https://templeosehshalom.org/event/veterans-day-2/
END:VEVENT
BEGIN:VEVENT
DTSTART;VALUE=DATE:20251127
DTEND;VALUE=DATE:20251128
DTSTAMP:20260421T161416
CREATED:20240204T034126Z
LAST-MODIFIED:20240204T034126Z
UID:10000026-1764201600-1764287999@templeosehshalom.org
SUMMARY:Thanksgiving Day
DESCRIPTION:Public holiday
URL:https://templeosehshalom.org/event/thanksgiving-day-2/
END:VEVENT
BEGIN:VEVENT
DTSTART;VALUE=DATE:20251215
DTEND;VALUE=DATE:20251216
DTSTAMP:20260421T161416
CREATED:20240204T034224Z
LAST-MODIFIED:20240204T034224Z
UID:10000112-1765756800-1765843199@templeosehshalom.org
SUMMARY:Hanukkah (Day 1)
DESCRIPTION:
URL:https://templeosehshalom.org/event/hanukkah-day-1-2/
END:VEVENT
BEGIN:VEVENT
DTSTART;VALUE=DATE:20251216
DTEND;VALUE=DATE:20251217
DTSTAMP:20260421T161416
CREATED:20240204T034224Z
LAST-MODIFIED:20240204T034224Z
UID:10000113-1765843200-1765929599@templeosehshalom.org
SUMMARY:Hanukkah (Day 2)
DESCRIPTION:
URL:https://templeosehshalom.org/event/hanukkah-day-2-2/
END:VEVENT
BEGIN:VEVENT
DTSTART;VALUE=DATE:20251217
DTEND;VALUE=DATE:20251218
DTSTAMP:20260421T161416
CREATED:20240204T034224Z
LAST-MODIFIED:20240204T034224Z
UID:10000114-1765929600-1766015999@templeosehshalom.org
SUMMARY:Hanukkah (Day 3)
DESCRIPTION:
URL:https://templeosehshalom.org/event/hanukkah-day-3-2/
END:VEVENT
BEGIN:VEVENT
DTSTART;VALUE=DATE:20251218
DTEND;VALUE=DATE:20251219
DTSTAMP:20260421T161416
CREATED:20240204T034224Z
LAST-MODIFIED:20240204T034224Z
UID:10000115-1766016000-1766102399@templeosehshalom.org
SUMMARY:Hanukkah (Day 4)
DESCRIPTION:
URL:https://templeosehshalom.org/event/hanukkah-day-4-2/
END:VEVENT
BEGIN:VEVENT
DTSTART;VALUE=DATE:20251219
DTEND;VALUE=DATE:20251220
DTSTAMP:20260421T161416
CREATED:20240204T034225Z
LAST-MODIFIED:20240204T034225Z
UID:10000116-1766102400-1766188799@templeosehshalom.org
SUMMARY:Hanukkah (Day 5)
DESCRIPTION:
URL:https://templeosehshalom.org/event/hanukkah-day-5-2/
END:VEVENT
BEGIN:VEVENT
DTSTART;VALUE=DATE:20251220
DTEND;VALUE=DATE:20251221
DTSTAMP:20260421T161416
CREATED:20240204T034225Z
LAST-MODIFIED:20240204T034225Z
UID:10000117-1766188800-1766275199@templeosehshalom.org
SUMMARY:Hanukkah (Day 6) / Rosh Chodesh Tevet
DESCRIPTION:
URL:https://templeosehshalom.org/event/hanukkah-day-6-rosh-chodesh-tevet-2/
END:VEVENT
BEGIN:VEVENT
DTSTART;VALUE=DATE:20251221
DTEND;VALUE=DATE:20251222
DTSTAMP:20260421T161416
CREATED:20240204T034225Z
LAST-MODIFIED:20240204T034225Z
UID:10000118-1766275200-1766361599@templeosehshalom.org
SUMMARY:Hanukkah (Day 7)
DESCRIPTION:
URL:https://templeosehshalom.org/event/hanukkah-day-7-2/
END:VEVENT
BEGIN:VEVENT
DTSTART;VALUE=DATE:20251222
DTEND;VALUE=DATE:20251223
DTSTAMP:20260421T161416
CREATED:20240204T034225Z
LAST-MODIFIED:20240204T034225Z
UID:10000119-1766361600-1766447999@templeosehshalom.org
SUMMARY:Hanukkah (Day 8)
DESCRIPTION:
URL:https://templeosehshalom.org/event/hanukkah-day-8-2/
END:VEVENT
BEGIN:VEVENT
DTSTART;VALUE=DATE:20251225
DTEND;VALUE=DATE:20251226
DTSTAMP:20260421T161416
CREATED:20240204T034126Z
LAST-MODIFIED:20240204T034126Z
UID:10000027-1766620800-1766707199@templeosehshalom.org
SUMMARY:Christmas Day
DESCRIPTION:Public holiday
URL:https://templeosehshalom.org/event/christmas-day-2/
END:VEVENT
BEGIN:VEVENT
DTSTART;VALUE=DATE:20251230
DTEND;VALUE=DATE:20251231
DTSTAMP:20260421T161416
CREATED:20240204T034225Z
LAST-MODIFIED:20240204T034225Z
UID:10000120-1767052800-1767139199@templeosehshalom.org
SUMMARY:Asarah B'Tevet (Tenth of Tevet)
DESCRIPTION:
URL:https://templeosehshalom.org/event/asarah-btevet-tenth-of-tevet-2/
END:VEVENT
END:VCALENDAR