BEGIN:VCALENDAR
VERSION:2.0
PRODID:-//Temple Oseh Shalom - ECPv6.15.17.1//NONSGML v1.0//EN
CALSCALE:GREGORIAN
METHOD:PUBLISH
X-ORIGINAL-URL:https://templeosehshalom.org
X-WR-CALDESC:Events for Temple Oseh Shalom
REFRESH-INTERVAL;VALUE=DURATION:PT1H
X-Robots-Tag:noindex
X-PUBLISHED-TTL:PT1H
BEGIN:VTIMEZONE
TZID:Africa/Abidjan
BEGIN:STANDARD
TZOFFSETFROM:+0000
TZOFFSETTO:+0000
TZNAME:GMT
DTSTART:20240101T000000
END:STANDARD
END:VTIMEZONE
BEGIN:VEVENT
DTSTART;VALUE=DATE:20251007
DTEND;VALUE=DATE:20251008
DTSTAMP:20260421T102640
CREATED:20240204T034222Z
LAST-MODIFIED:20240204T034222Z
UID:10000104-1759795200-1759881599@templeosehshalom.org
SUMMARY:Sukkot (Day 1)
DESCRIPTION:
URL:https://templeosehshalom.org/event/sukkot-day-1-2/
END:VEVENT
END:VCALENDAR